BEGIN:VCALENDAR
VERSION:2.0
PRODID:Events Booking
BEGIN:VEVENT
UID:69e88c27ae54a
SUMMARY:Pae Ora
DESCRIPTION:sdfasdf sad fasdf 
LOCATION:Dunlops Road\, Christchurch\, 8083 Canterbury\, New Zealand
DTSTART:20250729T000000Z
DTEND:20250729T000000Z
DTSTAMP:20250723T011028Z
ORGANIZER;CN=ConnectWhÄ:MAILTO:noreply@connectwha.org.nz
GEO:-43.459379;172.668015
X-APPLE-STRUCTURED-LOCATION;VALUE=URI;X-ADDRESS=Dunlops Road\, Christchurch
 \, 8083 Canterbury\, New Zealand;X-APPLE-RADIUS=72;X-TITLE=Pae Ora:-43.459
 379;172.668015
END:VEVENT
END:VCALENDAR